BEGIN:VCALENDAR
VERSION:2.0
PRODID:-//Peirsman Cranio Sacraal Academie - ECPv6.15.17.1//NONSGML v1.0//EN
CALSCALE:GREGORIAN
METHOD:PUBLISH
X-WR-CALNAME:Peirsman Cranio Sacraal Academie
X-ORIGINAL-URL:https://pcsa.nu
X-WR-CALDESC:Evenementen voor Peirsman Cranio Sacraal Academie
REFRESH-INTERVAL;VALUE=DURATION:PT1H
X-Robots-Tag:noindex
X-PUBLISHED-TTL:PT1H
BEGIN:VTIMEZONE
TZID:Europe/Amsterdam
BEGIN:DAYLIGHT
TZOFFSETFROM:+0100
TZOFFSETTO:+0200
TZNAME:CEST
DTSTART:20250330T010000
END:DAYLIGHT
BEGIN:STANDARD
TZOFFSETFROM:+0200
TZOFFSETTO:+0100
TZNAME:CET
DTSTART:20251026T010000
END:STANDARD
BEGIN:DAYLIGHT
TZOFFSETFROM:+0100
TZOFFSETTO:+0200
TZNAME:CEST
DTSTART:20260329T010000
END:DAYLIGHT
BEGIN:STANDARD
TZOFFSETFROM:+0200
TZOFFSETTO:+0100
TZNAME:CET
DTSTART:20261025T010000
END:STANDARD
BEGIN:DAYLIGHT
TZOFFSETFROM:+0100
TZOFFSETTO:+0200
TZNAME:CEST
DTSTART:20270328T010000
END:DAYLIGHT
BEGIN:STANDARD
TZOFFSETFROM:+0200
TZOFFSETTO:+0100
TZNAME:CET
DTSTART:20271031T010000
END:STANDARD
END:VTIMEZONE
BEGIN:VEVENT
DTSTART;TZID=Europe/Amsterdam:20260409T100000
DTEND;TZID=Europe/Amsterdam:20260412T180000
DTSTAMP:20260420T125954
CREATED:20250126T192355Z
LAST-MODIFIED:20250715T185631Z
UID:10000026-1775728800-1776016800@pcsa.nu
SUMMARY:Oogwerk
DESCRIPTION:Aanmelden\n			\n				\n				\n				\n				\n				Ogen ‘zien’ alles wat we in ons leven meemaken en onze visuele cortex bewaart dit zodat we ervan kunnen leren om beter met onze omgeving te kunnen omgaan. \nOnderwerpen in deze module zijn: \n\nBegrijpen hoe stress de werkelijke reden is waardoor we slecht zien en hoe we dat kunnen omdraaien.\nTijdens de geboorte wordt een enorme kracht uitgeoefend op de ligging van de hersenstam ten opzichte van de opening van de schedel. Je zult leren deze spanning op de kleine hersenen en de hersenstam te voelen en op te heffen.\nTenslotte\, en dit is misschien wel de mooiste techniek uit de module\, zal je leren de richting waarin we kijken om te draaien waardoor er aan ‘kijken’ een totaal andere dimensie toegevoegd wordt.\n\nLiteratuur\nDe literatuurlijst vind je hier. \nDocent\nDe docent van deze module is Petra Veldkamp \nBeschikbaar als losse module\nDeze module kun je los volgen uitsluitend als je PCSA- of Upledger-therapeut bent EN de module Praten met het Hart hebt gevolgd. Deze module is ook toegankelijk na het behalen van het 1e leerjaar van de PCSA opleiding en met positieve advies van de lesgevers van het 1e leerjaar. \nOefendagen\nBij deze module horen 2 oefendagen op 29 en 30 mei 2026. \nDe prijs voor deze zesdaagse module is los € 860\,- en voor studenten € 760\,- \, incl. koffie/thee en syllabus. Meer over korting voor studenten hier. \nDe PCSA is vrijgesteld van BTW.
URL:https://pcsa.nu/agenda-item/oogwerk/
LOCATION:Bussum
CATEGORIES:Module
ATTACH;FMTTYPE=image/jpeg:https://pcsa.nu/wp-content/uploads/2025/01/PSCA-WEB-061-1-scaled-e1738320342132.jpg
END:VEVENT
END:VCALENDAR