BEGIN:VCALENDAR
VERSION:2.0
PRODID:-//Peirsman Cranio Sacraal Academie - ECPv6.15.17.1//NONSGML v1.0//EN
CALSCALE:GREGORIAN
METHOD:PUBLISH
X-WR-CALNAME:Peirsman Cranio Sacraal Academie
X-ORIGINAL-URL:https://pcsa.nu
X-WR-CALDESC:Evenementen voor Peirsman Cranio Sacraal Academie
REFRESH-INTERVAL;VALUE=DURATION:PT1H
X-Robots-Tag:noindex
X-PUBLISHED-TTL:PT1H
BEGIN:VTIMEZONE
TZID:Europe/Amsterdam
BEGIN:DAYLIGHT
TZOFFSETFROM:+0100
TZOFFSETTO:+0200
TZNAME:CEST
DTSTART:20250330T010000
END:DAYLIGHT
BEGIN:STANDARD
TZOFFSETFROM:+0200
TZOFFSETTO:+0100
TZNAME:CET
DTSTART:20251026T010000
END:STANDARD
BEGIN:DAYLIGHT
TZOFFSETFROM:+0100
TZOFFSETTO:+0200
TZNAME:CEST
DTSTART:20260329T010000
END:DAYLIGHT
BEGIN:STANDARD
TZOFFSETFROM:+0200
TZOFFSETTO:+0100
TZNAME:CET
DTSTART:20261025T010000
END:STANDARD
BEGIN:DAYLIGHT
TZOFFSETFROM:+0100
TZOFFSETTO:+0200
TZNAME:CEST
DTSTART:20270328T010000
END:DAYLIGHT
BEGIN:STANDARD
TZOFFSETFROM:+0200
TZOFFSETTO:+0100
TZNAME:CET
DTSTART:20271031T010000
END:STANDARD
END:VTIMEZONE
BEGIN:VEVENT
DTSTART;TZID=Europe/Amsterdam:20261026T100000
DTEND;TZID=Europe/Amsterdam:20261026T180000
DTSTAMP:20260422T180648
CREATED:20260214T192449Z
LAST-MODIFIED:20260214T192452Z
UID:10000155-1793008800-1793037600@pcsa.nu
SUMMARY:Nascholing Cranio en je bekken: Vrouw zijn en je daarin gezond\, veilig en vrij voelen
DESCRIPTION:Aanmelden\n			\n				\n				\n				\n				\n				  \nLieve mooie vrouw\, deze tekst is voor jou. \nDeze nascholingsdag\, die wij samen met jou willen creëren\, gaat over thuis zijn in je lijf. Deze dag staat in het teken van je basis\, het bekkengebied\, dat verbonden is met thema’s als bestaansrecht\, waarachtigheid\, Zijn en ontvangen. \nHet bekken-gebied is het gebied van water waarin onze celherinneringen huizen\, die ernaar verlangen om in het licht te komen\, gezien en erkend te worden. Wat wil er vanuit je schoot ontspringen? Waar ligt jouw diepste verlangen? Wat wil je creëren? Wat wil je belichamen als vrouw? Hoe wil je ont-moet worden?…. \nLaten we op deze dag als vrouwen bij elkaar komen\, naar elkaar luisteren en van elkaar leren. Vanuit de bedding die we met elkaar vormen\, kunnen oude imprints zichtbaar worden en tot stroming komen. Op deze manier kunnen we elkaar helpen om ons lichaam nog meer te bewonen zoals we zijn. Zacht\, krachtig\, eerlijk\, vurig en echt. \nAls vrouwen komen we samen en maken op de cranio-manier contact met ons bekken: dit is intiem\, innig en dierbaar. Voel je een ja\, dan zien we je graag bij deze nascholing. We verheugen ons op dit mooie samen-Zijn en deze bijzondere dag. \nAda Pontstein\, Barbara de waal\, Mareen Becking \nOpen voor iedereen met mininaal cranio basis. \n 
URL:https://pcsa.nu/agenda-item/nascholing-cranio-en-je-bekken-vrouw-zijn-en-je-daarin-gezond-veilig-en-vrij-voelen/
CATEGORIES:Bij-nascholing
ATTACH;FMTTYPE=image/png:https://pcsa.nu/wp-content/uploads/2026/02/Screenshot-2026-02-12-08.54.06.png
END:VEVENT
END:VCALENDAR