BEGIN:VCALENDAR
VERSION:2.0
PRODID:-//Peirsman Cranio Sacraal Academie - ECPv6.15.17.1//NONSGML v1.0//EN
CALSCALE:GREGORIAN
METHOD:PUBLISH
X-ORIGINAL-URL:https://pcsa.nu
X-WR-CALDESC:Evenementen voor Peirsman Cranio Sacraal Academie
REFRESH-INTERVAL;VALUE=DURATION:PT1H
X-Robots-Tag:noindex
X-PUBLISHED-TTL:PT1H
BEGIN:VTIMEZONE
TZID:Europe/Amsterdam
BEGIN:DAYLIGHT
TZOFFSETFROM:+0100
TZOFFSETTO:+0200
TZNAME:CEST
DTSTART:20250330T010000
END:DAYLIGHT
BEGIN:STANDARD
TZOFFSETFROM:+0200
TZOFFSETTO:+0100
TZNAME:CET
DTSTART:20251026T010000
END:STANDARD
BEGIN:DAYLIGHT
TZOFFSETFROM:+0100
TZOFFSETTO:+0200
TZNAME:CEST
DTSTART:20260329T010000
END:DAYLIGHT
BEGIN:STANDARD
TZOFFSETFROM:+0200
TZOFFSETTO:+0100
TZNAME:CET
DTSTART:20261025T010000
END:STANDARD
BEGIN:DAYLIGHT
TZOFFSETFROM:+0100
TZOFFSETTO:+0200
TZNAME:CEST
DTSTART:20270328T010000
END:DAYLIGHT
BEGIN:STANDARD
TZOFFSETFROM:+0200
TZOFFSETTO:+0100
TZNAME:CET
DTSTART:20271031T010000
END:STANDARD
END:VTIMEZONE
BEGIN:VEVENT
DTSTART;TZID=Europe/Amsterdam:20260922T100000
DTEND;TZID=Europe/Amsterdam:20260922T180000
DTSTAMP:20260422T213651
CREATED:20260401T153855Z
LAST-MODIFIED:20260414T114948Z
UID:10000158-1790071200-1790100000@pcsa.nu
SUMMARY:MBK Masterclass met Etienne Peirsman: Sphenoïd; toegang tot de bron
DESCRIPTION:Aanmelden\n			\n				\n				\n				\n				\n				Verdere informatie volgt binnenkort
URL:https://pcsa.nu/agenda-item/mbk-of-psbk-en-of-cranio-vakgerichte-bij-nascholing-masterclass-met-etienne-peirsman-sphenoid-toegang-tot-de-bron/
LOCATION:Bussum
CATEGORIES:MBK of PsBK en/of Cranio vakgerichte Bij/Nascholing: Masterclass met Etienne Peirsman
ATTACH;FMTTYPE=image/png:https://pcsa.nu/wp-content/uploads/2025/01/Scherm­afbeelding-2025-01-28-om-12.59.16.png
END:VEVENT
BEGIN:VEVENT
DTSTART;TZID=Europe/Amsterdam:20260923T100000
DTEND;TZID=Europe/Amsterdam:20260923T180000
DTSTAMP:20260422T213651
CREATED:20260401T153601Z
LAST-MODIFIED:20260414T115053Z
UID:10000159-1790157600-1790186400@pcsa.nu
SUMMARY:MBK Masterclass met Etienne Peirsman: Pancreas
DESCRIPTION:Aanmelden\n			\n				\n				\n				\n				\n				Verdere informatie volgt binnenkort
URL:https://pcsa.nu/agenda-item/mbk-of-psbk-en-of-cranio-vakgerichte-bij-nascholing-masterclass-met-etienne-peirsman-pancreas/
LOCATION:Bussum
CATEGORIES:MBK of PsBK en/of Cranio vakgerichte Bij/Nascholing: Masterclass met Etienne Peirsman
ATTACH;FMTTYPE=image/png:https://pcsa.nu/wp-content/uploads/2025/01/Scherm­afbeelding-2025-01-28-om-12.59.16.png
END:VEVENT
BEGIN:VEVENT
DTSTART;TZID=Europe/Amsterdam:20260924T100000
DTEND;TZID=Europe/Amsterdam:20260924T180000
DTSTAMP:20260422T213651
CREATED:20260401T153237Z
LAST-MODIFIED:20260414T115122Z
UID:10000160-1790244000-1790272800@pcsa.nu
SUMMARY:MBK Masterclass met Etienne Peirsman: Talking to the Midline
DESCRIPTION:Aanmelden\n			\n				\n				\n				\n				\n				Verdere informatie volgt binnenkort
URL:https://pcsa.nu/agenda-item/mbk-of-psbk-en-of-cranio-vakgerichte-bij-nascholing-masterclass-met-etienne-peirsman-talking-to-the-midline/
LOCATION:Bussum
CATEGORIES:MBK of PsBK en/of Cranio vakgerichte Bij/Nascholing: Masterclass met Etienne Peirsman
ATTACH;FMTTYPE=image/png:https://pcsa.nu/wp-content/uploads/2025/01/Scherm­afbeelding-2025-01-28-om-12.59.16.png
END:VEVENT
BEGIN:VEVENT
DTSTART;TZID=Europe/Amsterdam:20260925T100000
DTEND;TZID=Europe/Amsterdam:20260925T180000
DTSTAMP:20260422T213651
CREATED:20260401T152526Z
LAST-MODIFIED:20260414T115247Z
UID:10000161-1790330400-1790359200@pcsa.nu
SUMMARY:MBK Masterclass met Etienne Peirsman: Nieren en Blaas
DESCRIPTION:Aanmelden\n			\n				\n				\n				\n				\n				Verdere informatie volgt binnenkort
URL:https://pcsa.nu/agenda-item/mbk-of-psbk-en-of-cranio-vakgerichte-bij-nascholing-masterclass-met-etienne-peirsman-nieren-en-blaas/
LOCATION:Bussum
CATEGORIES:MBK of PsBK en/of Cranio vakgerichte Bij/Nascholing: Masterclass met Etienne Peirsman
ATTACH;FMTTYPE=image/png:https://pcsa.nu/wp-content/uploads/2025/01/Scherm­afbeelding-2025-01-28-om-12.59.16.png
END:VEVENT
BEGIN:VEVENT
DTSTART;TZID=Europe/Amsterdam:20260926T100000
DTEND;TZID=Europe/Amsterdam:20260926T180000
DTSTAMP:20260422T213651
CREATED:20260401T152903Z
LAST-MODIFIED:20260414T115157Z
UID:10000162-1790416800-1790445600@pcsa.nu
SUMMARY:MBK Masterclass met Etienne Peirsman: De wijsheid van Fascia
DESCRIPTION:Aanmelden\n			\n				\n				\n				\n				\n				Verdere informatie volgt binnenkort
URL:https://pcsa.nu/agenda-item/mbk-of-psbk-en-of-cranio-vakgerichte-bij-nascholing-masterclass-met-etienne-peirsman-de-wijsheid-van-fascia/
LOCATION:Bussum
CATEGORIES:MBK of PsBK en/of Cranio vakgerichte Bij/Nascholing: Masterclass met Etienne Peirsman
ATTACH;FMTTYPE=image/png:https://pcsa.nu/wp-content/uploads/2025/01/Scherm­afbeelding-2025-01-28-om-12.59.16.png
END:VEVENT
END:VCALENDAR