BEGIN:VCALENDAR
VERSION:2.0
PRODID:-//Peirsman Cranio Sacraal Academie - ECPv6.15.17.1//NONSGML v1.0//EN
CALSCALE:GREGORIAN
METHOD:PUBLISH
X-WR-CALNAME:Peirsman Cranio Sacraal Academie
X-ORIGINAL-URL:https://pcsa.nu
X-WR-CALDESC:Evenementen voor Peirsman Cranio Sacraal Academie
REFRESH-INTERVAL;VALUE=DURATION:PT1H
X-Robots-Tag:noindex
X-PUBLISHED-TTL:PT1H
BEGIN:VTIMEZONE
TZID:Europe/Amsterdam
BEGIN:DAYLIGHT
TZOFFSETFROM:+0100
TZOFFSETTO:+0200
TZNAME:CEST
DTSTART:20240331T010000
END:DAYLIGHT
BEGIN:STANDARD
TZOFFSETFROM:+0200
TZOFFSETTO:+0100
TZNAME:CET
DTSTART:20241027T010000
END:STANDARD
BEGIN:DAYLIGHT
TZOFFSETFROM:+0100
TZOFFSETTO:+0200
TZNAME:CEST
DTSTART:20250330T010000
END:DAYLIGHT
BEGIN:STANDARD
TZOFFSETFROM:+0200
TZOFFSETTO:+0100
TZNAME:CET
DTSTART:20251026T010000
END:STANDARD
BEGIN:DAYLIGHT
TZOFFSETFROM:+0100
TZOFFSETTO:+0200
TZNAME:CEST
DTSTART:20260329T010000
END:DAYLIGHT
BEGIN:STANDARD
TZOFFSETFROM:+0200
TZOFFSETTO:+0100
TZNAME:CET
DTSTART:20261025T010000
END:STANDARD
END:VTIMEZONE
BEGIN:VEVENT
DTSTART;TZID=Europe/Amsterdam:20250921T100000
DTEND;TZID=Europe/Amsterdam:20250921T180000
DTSTAMP:20260422T233725
CREATED:20250314T205901Z
LAST-MODIFIED:20250920T133539Z
UID:10000044-1758448800-1758477600@pcsa.nu
SUMMARY:MBK of PsBK en/of Cranio vakgerichte Bij/Nascholing: Masterclass met Etienne Peirsman: Ritme en Stroming\, Vortex en Pomp\, Bloed en Cranio Sacraal Vocht
DESCRIPTION:De CS ritmes zijn altijd de basis van onze therapie geweest en het begrijpen en gebruiken van de verschillende ritmes heeft geleid tot het ontstaan van verschillende stromingen en scholen binnen de wereld van CS. \n Er is nog steeds behoorlijk wat verwarring over hoe het CS ritme ontstaat\, waar het mee te maken heeft en vooral wat belangrijk is en wat niet. \n We zullen op deze dag alles wat mogelijk is beschrijven en ontdekken zodat we CS en zijn ritmes kunnen begrijpen en gebruiken zodat we dit onderwerp eindelijk te ruste kunnen leggen. \n Hiernaast is er de laatste jaren behoorlijk wat onderzoek geweest over de bloedsomloop en de rol van het Hart als pomp. \nWie had gedacht dat de meest intelligente stof die we kennen\, water\, op zich de motor is die het bloed rondbrengt en niet het Hart. \nWe noemen dit fenomeen de 4e staat van water noemen\, H3O2\, en merkwaardig is hoe dit samenwerkt met de vloeibare staat van water in ons bloed en in elke cel van het lichaam. \n We zullen ontdekken hoe we die 4e vorm van water kunnen produceren en hoe we de natuurlijk intelligentie van water kunnen optimaliseren in ons levenswerk.\n\n\nVoor wie\nVoor iedereen toegankelijk. \n			\n				Aanmelden\n			\n			\n				\n				\n				\n				\n			\n				\n				\n				\n				\n				\n				\n				\n				\n				\n				\n				Masterclass met Etienne Peirsman\n17 september 2025: Menopauze18 september 2025: Tinnitus19 september 2025: Cranio en jong volwassenen20 september 2025: Pijnappelklier en Hormonen (wachtlijst)21 september 2025: Ritme en Stroming\, Vortex en Pomp\, Bloed en Cranio Sacraal Vocht \nKosten\n1 dag €1502 dagen €3003 dagen €4254 dagen €5755 dagen €675 \n 
URL:https://pcsa.nu/agenda-item/mbk-of-psbk-en-of-cranio-vakgerichte-bij-nascholing-masterclass-met-etienne-peirsman-ritme-en-stroming-vortex-en-pomp-bloed-en-cranio-sacraal-vocht/
LOCATION:Bussum
CATEGORIES:Bij-nascholing,MBK of PsBK en/of Cranio vakgerichte Bij/Nascholing: Masterclass met Etienne Peirsman
ATTACH;FMTTYPE=image/png:https://pcsa.nu/wp-content/uploads/2025/01/MasterclassEtienne-e1737741705324.png
END:VEVENT
BEGIN:VEVENT
DTSTART;TZID=Europe/Amsterdam:20250920T100000
DTEND;TZID=Europe/Amsterdam:20250920T180000
DTSTAMP:20260422T233725
CREATED:20250314T210242Z
LAST-MODIFIED:20250709T113852Z
UID:10000045-1758362400-1758391200@pcsa.nu
SUMMARY:MBK of PsBK en/of Cranio vakgerichte Bij/Nascholing: Masterclass met Etienne Peirsman: Pijnappelklier en hormonen
DESCRIPTION:VOL! Meld je hier je aan voor de wachtlijst. Zodra er een plek vrijkomt\, nemen we contact met je op. \n\n\n\n\nGedurende deze dag bekijken we de relatie tussen de hormonen die ons vecht-vlucht gedrag activeren de de hormonen die ons in staat stellen in no-mind te gaan.\n\nVooral dat laatste\, de pinappelklier zullen we vinden\, aanraken en onderzoeken of ze behoorlijk wekt en hoe we de kristallisatie van haar hersencellen kunnen omkeren.\nVan belang hier is te begrijpen en hoe we de verbinding tussen haar photon receptors en de levensenergie kunnen herstellen.\n\n\n\nVoor wie\nVoor iedereen toegankelijk. \n  \n			\n			\n				\n				\n				\n				\n			\n				\n				\n				\n				\n				\n				\n				\n				\n				\n				\n				Masterclass met Etienne Peirsman\n17 september 2025: Menopauze18 september 2025: Tinnitus19 september 2025: Cranio en jong volwassenen20 september 2025: Pijnappelklier en Hormonen (wachtlijst)21 september 2025: Ritme en Stroming\, Vortex en Pomp\, Bloed en Cranio Sacraal Vocht \nKosten\n1 dag €1502 dagen €3003 dagen €4254 dagen €5755 dagen €675 \n 
URL:https://pcsa.nu/agenda-item/mbk-of-psbk-en-of-cranio-vakgerichte-bij-nascholing-masterclass-met-etienne-peirsman-pijnappelklier-en-hormonen/
LOCATION:Bussum
CATEGORIES:Bij-nascholing,MBK of PsBK en/of Cranio vakgerichte Bij/Nascholing: Masterclass met Etienne Peirsman
ATTACH;FMTTYPE=image/png:https://pcsa.nu/wp-content/uploads/2025/01/MasterclassEtienne-e1737741705324.png
END:VEVENT
BEGIN:VEVENT
DTSTART;TZID=Europe/Amsterdam:20250919T100000
DTEND;TZID=Europe/Amsterdam:20250919T180000
DTSTAMP:20260422T233725
CREATED:20250314T205303Z
LAST-MODIFIED:20250709T114203Z
UID:10000043-1758276000-1758304800@pcsa.nu
SUMMARY:MBK of PsBK en/of Cranio vakgerichte Bij/Nascholing: Masterclass met Etienne Peirsman: Cranio en jong volwassenen
DESCRIPTION:Wat is hoog begaafdheid en wat is overprikkeling bij jong volwassenen?\nHet begrijpen van wat in onze maatschappij en onze opvoeding gebeurt is essentieel om een antwoord te vinden op het groeiende aantal cliënten met deze problemen die we in onze praktijk zullen krijgen.\n De relatie tussen social media en de verslaafdheid die hierdoor gecreëerd wordt geeft een verschuiving in de hormoonspiegel in de hersenen.\nDit begrijpen en technieken leren hoe we dit kunnen omkeren is essentieel. Het zal een vaak enorme taak zijn om vooral jong volwassenen duidelijk te maken hoe hun hersenen werken.\nDat is stap 1\, stap 2 is hen te laten voelen wat mogelijk is en dat kan je pas leren als jijzelf dit kan ervaren.\n \nDit is de grootste opgave die ons als CS therapeuten te wachten staat\, het redden van een anders verloren generatie.\n\nVoor wie\nVoor iedereen toegankelijk. \n			\n				Aanmelden\n			\n			\n				\n				\n				\n				\n			\n				\n				\n				\n				\n				\n				\n				\n				\n				\n				\n				Masterclass met Etienne Peirsman\n17 september 2025: Menopauze18 september 2025: Tinnitus19 september 2025: Cranio en jong volwassenen20 september 2025: Pijnappelklier en Hormonen (wachtlijst)21 september 2025: Ritme en Stroming\, Vortex en Pomp\, Bloed en Cranio Sacraal Vocht \nKosten\n1 dag €1502 dagen €3003 dagen €4254 dagen €5755 dagen €675 \n 
URL:https://pcsa.nu/agenda-item/mbk-of-psbk-en-of-cranio-vakgerichte-bij-nascholing-masterclass-met-etienne-peirsman-cranio-en-jong-volwassenen/
LOCATION:Bussum
CATEGORIES:Bij-nascholing,MBK of PsBK en/of Cranio vakgerichte Bij/Nascholing: Masterclass met Etienne Peirsman
ATTACH;FMTTYPE=image/png:https://pcsa.nu/wp-content/uploads/2025/01/MasterclassEtienne-e1737741705324.png
END:VEVENT
BEGIN:VEVENT
DTSTART;TZID=Europe/Amsterdam:20250918T100000
DTEND;TZID=Europe/Amsterdam:20250918T180000
DTSTAMP:20260422T233725
CREATED:20250314T205000Z
LAST-MODIFIED:20250709T114040Z
UID:10000042-1758189600-1758218400@pcsa.nu
SUMMARY:MBK of PsBK en/of Cranio vakgerichte Bij/Nascholing: Masterclass met Etienne Peirsman: Tinnitus
DESCRIPTION:De gehoorbeentjes zijn de allerkleinste botjes in ons lichaam\, piepklein. Ze zijn gehecht met peesjes en spiertjes aan vliesjes die tussen de krachtigste spieren\, de kauwspieren\, gespannen zijn. Dit is uiteraard vragen om moeilijkheden. \nOnze opvoeding\, onze scholing en het continu negeren van de eigen wil en eigen wensen door iedereen in onze buurt\, brengt enorme spanning met zich mee. \nDit gevoel dat je nooit jezelf kan zijn\, zakt in het onderbewustzijn en we leren ermee om te gaan. Voor ons lichaam echter\, is bewust of onderbewust hetzelfde\, het zal altijd reageren op een te veel aan spanning.  \nGespannen kaken\, is een vecht- en vlucht reactie\, een gewoonte gecreëerd door ons sociaal milieu en het wordt bijna onmogelijk deze spanning los te laten. Uiten we ze niet dan keert ze zich naar binnen wat  een continue fluiten of gepiep kan creëren. \nDit omkeren vraagt in de eerste plaats om te begrijpen waarom dit gebeurt. Het besef dat het men zich moet uiten en dat ook doet\, wil nog niet zeggen dat men dat plotsklaps ook kan.   \nDit begrijpen kan het begin zijn van het omkeren van een jarenlange sociale programmering\, ons gedrag en diepe gewoontes die in ons zenuwstelsel en spieren verankerd zijn. \nNatuurlijk kunnen we dit veranderen\, laten we beginnen onze fysieke gewoontes te voelen en laten we beginnen dit om te draaien \n\nVoor wie\nVoor iedereen toegankelijk. \n			\n				Aanmelden\n			\n			\n				\n				\n				\n				\n			\n				\n				\n				\n				\n				\n				\n				\n				\n				\n				\n				Masterclass met Etienne Peirsman\n17 september 2025: Menopauze18 september 2025: Tinnitus19 september 2025: Cranio en jong volwassenen20 september 2025: Pijnappelklier en Hormonen (wachtlijst)21 september 2025: Ritme en Stroming\, Vortex en Pomp\, Bloed en Cranio Sacraal Vocht \nKosten\n1 dag €1502 dagen €3003 dagen €4254 dagen €5755 dagen €675 \n 
URL:https://pcsa.nu/agenda-item/mbk-of-psbk-en-of-cranio-vakgerichte-bij-nascholing-masterclass-met-etienne-peirsman-tinnitus/
LOCATION:Bussum
CATEGORIES:Bij-nascholing,MBK of PsBK en/of Cranio vakgerichte Bij/Nascholing: Masterclass met Etienne Peirsman
ATTACH;FMTTYPE=image/png:https://pcsa.nu/wp-content/uploads/2025/01/MasterclassEtienne-e1737741705324.png
END:VEVENT
BEGIN:VEVENT
DTSTART;TZID=Europe/Amsterdam:20250917T100000
DTEND;TZID=Europe/Amsterdam:20250917T180000
DTSTAMP:20260422T233725
CREATED:20250314T190036Z
LAST-MODIFIED:20250709T113934Z
UID:10000041-1758103200-1758132000@pcsa.nu
SUMMARY:MBK of PsBK en/of Cranio vakgerichte Bij/Nascholing: Masterclass met Etienne Peirsman: Menopauze
DESCRIPTION: Wat betekent het als je plots de natuurlijke mogelijkheid kinderen te baren verliest.\nOp vele vlakken bewust en on-bewust kan dit een enorme weerslag geven over het zelf-beeld en de zelfliefde van jezelf Menopauze is een kleine dood.\n Maar\, daartegenover staat dat deze tijd het begin kan zijn van totale vrijheid waarin eindelijk tijd vrijkomt voor jezelf.\n We zullen kijken hoe we dit lichamelijk ongemak kunnen verminderen en zelfs ongedaan maken.\nBovendien geeft het ons de kans om dichter bij het lichaam\, zijn oprganen en cellen te komen en de leegte die ontstaan is te vullen met wijsheid.\n Na deze kleine dood wordt de wijze vrouw\, de heks\, geboren!\nVoor wie\nVoor iedereen toegankelijk. \n			\n				Aanmelden\n			\n			\n				\n				\n				\n				\n			\n				\n				\n				\n				\n				\n				\n				\n				\n				\n				\n				Masterclass met Etienne Peirsman\n17 september 2025: Menopauze18 september 2025: Tinnitus19 september 2025: Cranio en jong volwassenen20 september 2025: Pijnappelklier en Hormonen (wachtlijst)21 september 2025: Ritme en Stroming\, Vortex en Pomp\, Bloed en Cranio Sacraal Vocht \nKosten\n1 dag €1502 dagen €3003 dagen €4254 dagen €5755 dagen €675 \n 
URL:https://pcsa.nu/agenda-item/mbk-of-psbk-en-of-cranio-vakgerichte-bij-nascholing-masterclass-met-etienne-peirsman-menopauze/
LOCATION:Bussum
CATEGORIES:Bij-nascholing,MBK of PsBK en/of Cranio vakgerichte Bij/Nascholing: Masterclass met Etienne Peirsman
ATTACH;FMTTYPE=image/png:https://pcsa.nu/wp-content/uploads/2025/01/MasterclassEtienne-e1737741705324.png
END:VEVENT
END:VCALENDAR